BEGIN:VCALENDAR
VERSION:2.0
PRODID:-//K&ouml;rpertherapie Lothar Rumpel - ECPv6.15.20//NONSGML v1.0//EN
CALSCALE:GREGORIAN
METHOD:PUBLISH
X-WR-CALNAME:K&ouml;rpertherapie Lothar Rumpel
X-ORIGINAL-URL:https://koerpertherapie-lothar-rumpel.de
X-WR-CALDESC:Veranstaltungen für K&ouml;rpertherapie Lothar Rumpel
REFRESH-INTERVAL;VALUE=DURATION:PT1H
X-Robots-Tag:noindex
X-PUBLISHED-TTL:PT1H
BEGIN:VTIMEZONE
TZID:UTC
BEGIN:STANDARD
TZOFFSETFROM:+0000
TZOFFSETTO:+0000
TZNAME:UTC
DTSTART:20240101T000000
END:STANDARD
END:VTIMEZONE
BEGIN:VEVENT
DTSTART;TZID=UTC:20251212T190000
DTEND;TZID=UTC:20251214T133000
DTSTAMP:20260421T184844
CREATED:20241203T091402Z
LAST-MODIFIED:20251003T172201Z
UID:468-1765566000-1765719000@koerpertherapie-lothar-rumpel.de
SUMMARY:Männergruppe Advanced 2025
DESCRIPTION:Die Männer Advanced Gruppe trifft sich in der Praxis im Lahnweg 27\, Kassel unter der Leitung von Lothar Rumpel. \n\nTermine:\n\n13.06. – 15.06.2025\n31.10. – 02.11.2025\n12.12. – 14.12.2025\n\n\nZeiten:\n\nFreitag: 19:00 – 21:30 Uhr\nSamstag: 09:30 – 19:00 Uhr\nSonntag: 09:30 – 13:30 Uhr\n\n\nKosten:\n\nSeminarhonorar pro Wochenende: 190 €\nRaummiete: 15 €\n\n\nDie Männer Advanced Gruppe umfasst drei Wochenendtermine. Die Teilnahme erfordert eine verbindliche Zusage.
URL:https://koerpertherapie-lothar-rumpel.de/event/maennergruppe-advanced-2025/
LOCATION:Praxis Lahnweg\, Lahnweg 27\, Kassel\, Hessen\, 34131\, Deutschland
END:VEVENT
END:VCALENDAR