BEGIN:VCALENDAR
VERSION:2.0
PRODID:-//K&ouml;rpertherapie Lothar Rumpel - ECPv6.15.20//NONSGML v1.0//EN
CALSCALE:GREGORIAN
METHOD:PUBLISH
X-WR-CALNAME:K&ouml;rpertherapie Lothar Rumpel
X-ORIGINAL-URL:https://koerpertherapie-lothar-rumpel.de
X-WR-CALDESC:Veranstaltungen für K&ouml;rpertherapie Lothar Rumpel
REFRESH-INTERVAL;VALUE=DURATION:PT1H
X-Robots-Tag:noindex
X-PUBLISHED-TTL:PT1H
BEGIN:VTIMEZONE
TZID:UTC
BEGIN:STANDARD
TZOFFSETFROM:+0000
TZOFFSETTO:+0000
TZNAME:UTC
DTSTART:20240101T000000
END:STANDARD
END:VTIMEZONE
BEGIN:VEVENT
DTSTART;TZID=UTC:20251011T100000
DTEND;TZID=UTC:20251012T133000
DTSTAMP:20260421T144206
CREATED:20241203T085549Z
LAST-MODIFIED:20241203T090909Z
UID:451-1760176800-1760275800@koerpertherapie-lothar-rumpel.de
SUMMARY:Männergruppe 2025
DESCRIPTION:Die Männergruppe trifft sich in der Praxis im Lahnweg 27\, Kassel unter der Leitung von Lothar Rumpel. \n\nTermine:\n\n01.02. – 02.02.2025\n29.03. – 30.03.2025\n10.05. – 11.05.2025\n05.07. – 06.07.2025\n13.09. – 14.09.2025\n11.10. – 12.10.2025\n29.11. – 30.11.2025\n\n\nZeiten:\n\nSamstag: 10:00 – 18:00 Uhr\nSonntag: 09:30 – 13:30 Uhr\n\n\nKosten:\n\nSeminarhonorar pro Wochenende: 150 €\nRaummiete: 15 €\n\n\nDie Seminarreihe umfasst sieben Termine. Nach Zusage ist die Teilnahme an allen Terminen verbindlich.
URL:https://koerpertherapie-lothar-rumpel.de/event/maennergruppe-2025-5/
LOCATION:Praxis Lahnweg\, Lahnweg 27\, Kassel\, Hessen\, 34131\, Deutschland
END:VEVENT
BEGIN:VEVENT
DTSTART;TZID=UTC:20251018T100000
DTEND;TZID=UTC:20251018T180000
DTSTAMP:20260421T144206
CREATED:20241203T093743Z
LAST-MODIFIED:20241205T160840Z
UID:493-1760781600-1760810400@koerpertherapie-lothar-rumpel.de
SUMMARY:Samstagsgruppe Frauen 2025
DESCRIPTION:Die Samstagsgruppe Frauen trifft sich in der Praxis im Lahnweg 27\, Kassel unter der Leitung von Lothar Rumpel. \n\nTermine:\n\n18.01.2025\n05.04.2025\n21.06.2025\n30.08.2025\n18.10.2025\nWochenende gemeinsam mit der Freitagsgruppe:\n\n05.12. – 07.12.2025\nFreitag: 19:00 Uhr – Sonntag: 13:30 Uhr\n\n\n\n\nZeiten:\n\nSamstagstermine: 10:00 – 18:00 Uhr\nWochenendtermin: Freitag: 19:00 Uhr – Sonntag: 13:30 Uhr\n\n\nKosten:\n\nSeminarhonorar für alle Termine: 100 €\nRaummiete: 15 €\n\n\nDie Samstagsgruppe Frauen umfasst sechs Termine\, darunter ein gemeinsames Wochenende mit der Freitagsgruppe Frauen im Dezember.\nDie Teilnahme an allen Terminen ist nach Zusage verbindlich.
URL:https://koerpertherapie-lothar-rumpel.de/event/samstagsgruppe-frauen-2025/
LOCATION:Praxis Lahnweg\, Lahnweg 27\, Kassel\, Hessen\, 34131\, Deutschland
END:VEVENT
BEGIN:VEVENT
DTSTART;TZID=UTC:20251024T100000
DTEND;TZID=UTC:20251024T180000
DTSTAMP:20260421T144206
CREATED:20241203T092902Z
LAST-MODIFIED:20241205T161223Z
UID:477-1761300000-1761328800@koerpertherapie-lothar-rumpel.de
SUMMARY:Freitagsgruppe Frauen 2025
DESCRIPTION:Die Freitagsgruppe Frauen trifft sich in der Praxis im Lahnweg 27\, Kassel unter der Leitung von Lothar Rumpel. \n\nTermine:\n\n07.02.2025\n25.04.2025\n04.07.2025\n05.09.2025\n24.10.2025\nWochenende gemeinsam mit der Samstagsgruppe:\n\n05.12. – 07.12.2025\nFreitag: 19:00 Uhr – Sonntag: 13:30 Uhr\n\n\n\n\nZeiten:\n\nFreitagstermine: 10:00 – 18:00 Uhr\nWochenendtermin: Freitag: 19:00 Uhr – Sonntag: 13:30 Uhr\n\n\nKosten:\n\nSeminarhonorar für alle Termine: 100 €\nRaummiete: 15 €\n\n\nDie Freitagsgruppe Frauen bietet insgesamt sechs Termine\, inklusive eines gemeinsamen Wochenendes mit der Samstagsgruppe Frauen im Dezember.\nDie Teilnahme ist nach Zusage verbindlich.
URL:https://koerpertherapie-lothar-rumpel.de/event/freitagsgruppe-frauen-2025/
LOCATION:Praxis Lahnweg\, Lahnweg 27\, Kassel\, Hessen\, 34131\, Deutschland
END:VEVENT
BEGIN:VEVENT
DTSTART;TZID=UTC:20251031T190000
DTEND;TZID=UTC:20251102T133000
DTSTAMP:20260421T144206
CREATED:20250703T091452Z
LAST-MODIFIED:20251003T171859Z
UID:467-1761937200-1762090200@koerpertherapie-lothar-rumpel.de
SUMMARY:Männergruppe Advanced 2025
DESCRIPTION:Die Männer Advanced Gruppe trifft sich in der Praxis im Lahnweg 27\, Kassel unter der Leitung von Lothar Rumpel. \n\nTermine:\n\n13.06. – 15.06.2025\n31.10. – 02.11.2025\n12.12. – 14.12.2025\n\n\nZeiten:\n\nFreitag: 19:00 – 21:30 Uhr\nSamstag: 09:30 – 19:00 Uhr\nSonntag: 09:30 – 13:30 Uhr\n\n\nKosten:\n\nSeminarhonorar pro Wochenende: 190 €\nRaummiete: 15 €\n\n\nDie Männer Advanced Gruppe umfasst drei Wochenendtermine. Die Teilnahme erfordert eine verbindliche Zusage.
URL:https://koerpertherapie-lothar-rumpel.de/event/maennergruppe-advanced-2025-2/
LOCATION:Praxis Lahnweg\, Lahnweg 27\, Kassel\, Hessen\, 34131\, Deutschland
END:VEVENT
END:VCALENDAR